BEGIN:VCALENDAR
VERSION:2.0
PRODID:-//Melbourne Freedivers Club - ECPv4.1.4//NONSGML v1.0//EN
CALSCALE:GREGORIAN
METHOD:PUBLISH
X-WR-CALNAME:Melbourne Freedivers Club
X-ORIGINAL-URL:http://www.melbournefreedivers.org.au
X-WR-CALDESC:Events for Melbourne Freedivers Club
BEGIN:VEVENT
DTSTART;TZID=Australia/Melbourne:20210201T194500
DTEND;TZID=Australia/Melbourne:20210201T213000
DTSTAMP:20210226T022542
CREATED:20180828T035531
LAST-MODIFIED:20210216T004634
UID:1613-1612208700-1612215000@www.melbournefreedivers.org.au
SUMMARY:Monday Training – MSAC\, Albert Park
DESCRIPTION:>> PAY FOR TRAINING HERE <<\n\nMSAC offers an indoor heated 50mt pool.\n\nBefore coming to MSAC\, please see the \nCOVID-19 notifications\nand read the \nMFC COVIDSafe plan\n\n\n* * * * *\n\nTraining session in buddy-style arrangement.\n\nDedicated lane for MFC.\n\nAccess to MSAC is either from Aughtie Drive or the Albert Road/Cecil Street entrance.\nParking: MSAC has two car parks with a total of 500 spaces for members and patrons’ use. Please be aware of Terms and Conditions of parking at MSAC\, which are clearly displayed at all entrances to car parks.\n\n* * * * *\n\nPAYMENT\nPlease complete payment at least 30mins prior to training.\nClick the link below and select the session from the calendar.\n>> PAY FOR TRAINING HERE <<
URL:http://www.melbournefreedivers.org.au/event/wednesday-training-msac-albert-park/2021-02-01/
LOCATION:30 Aughtie Dr\, Melbourne\, Australia\, 3206\, Australia
ATTACH;FMTTYPE=image/jpeg:http://www.melbournefreedivers.org.au/wp-content/uploads/2018/08/msac.jpg
END:VEVENT
BEGIN:VEVENT
DTSTART;TZID=UTC+11:20210203T191500
DTEND;TZID=UTC+11:20210203T204500
DTSTAMP:20210226T022542
CREATED:20160221T113904
LAST-MODIFIED:20210214T000509
UID:5341-1612379700-1612385100@www.melbournefreedivers.org.au
SUMMARY:Wednesday Training – Victoria University\, Footscray Park
DESCRIPTION:>> PAY FOR TRAINING HERE <<\n\nVictoria University ‘Vic Uni’ offers a indoor heated 25m pool with depth 1.2 – 1.8m\, and is a great opportunity for those living/working on the Northern-side of the city.\n\nIMPORTANT: due to COVID-19 restrictions\, a check-in procedure is required upon entering the premises. Please read this document: \nVU Sport COVID Safe Return to Play\n\n* * * * *\n\nTraining session in buddy-style arrangement.\n\nDedicated lanes for MFC.\n\nEnter: via the Maribyrnong Blvd entry.\nBuilding M.\nParking: Mostly Free\, please check restrictions.\n\n* * * * *\n\nPAYMENT\nPlease complete payment at least 30mins prior to training.\nClick the link below and select the session from the calendar.\n>> PAY FOR TRAINING HERE <<
URL:http://www.melbournefreedivers.org.au/event/training-victoria-university-footscray-park-10/2021-02-03/
LOCATION:Victoria University - Footscray Park\, Ballarat Road\, Footscray VIC\, Footscray\, VIC\, 3011\, Australia
GEO:-37.7931981;144.9005217
X-APPLE-STRUCTURED-LOCATION;VALUE=URI;X-ADDRESS=Victoria University - Footscray Park Ballarat Road Footscray VIC Footscray VIC 3011 Australia;X-APPLE-RADIUS=500;X-TITLE=Victoria University - Footscray Park\, Ballarat Road\, Footscray VIC:geo:144.9005217,-37.7931981
ATTACH;FMTTYPE=image/jpeg:http://www.melbournefreedivers.org.au/wp-content/uploads/2015/11/Footscray-Training-1.jpg
END:VEVENT
BEGIN:VEVENT
DTSTART;TZID=Australia/Melbourne:20210208T194500
DTEND;TZID=Australia/Melbourne:20210208T213000
DTSTAMP:20210226T022542
CREATED:20180828T035531
LAST-MODIFIED:20210216T004634
UID:5309-1612813500-1612819800@www.melbournefreedivers.org.au
SUMMARY:Monday Training – MSAC\, Albert Park
DESCRIPTION:>> PAY FOR TRAINING HERE <<\n\nMSAC offers an indoor heated 50mt pool.\n\nBefore coming to MSAC\, please see the \nCOVID-19 notifications\nand read the \nMFC COVIDSafe plan\n\n\n* * * * *\n\nTraining session in buddy-style arrangement.\n\nDedicated lane for MFC.\n\nAccess to MSAC is either from Aughtie Drive or the Albert Road/Cecil Street entrance.\nParking: MSAC has two car parks with a total of 500 spaces for members and patrons’ use. Please be aware of Terms and Conditions of parking at MSAC\, which are clearly displayed at all entrances to car parks.\n\n* * * * *\n\nPAYMENT\nPlease complete payment at least 30mins prior to training.\nClick the link below and select the session from the calendar.\n>> PAY FOR TRAINING HERE <<
URL:http://www.melbournefreedivers.org.au/event/wednesday-training-msac-albert-park/2021-02-08/
LOCATION:30 Aughtie Dr\, Melbourne\, Australia\, 3206\, Australia
ATTACH;FMTTYPE=image/jpeg:http://www.melbournefreedivers.org.au/wp-content/uploads/2018/08/msac.jpg
END:VEVENT
BEGIN:VEVENT
DTSTART;TZID=UTC+11:20210210T191500
DTEND;TZID=UTC+11:20210210T204500
DTSTAMP:20210226T022542
CREATED:20160221T113904
LAST-MODIFIED:20210214T000510
UID:5342-1612984500-1612989900@www.melbournefreedivers.org.au
SUMMARY:Wednesday Training – Victoria University\, Footscray Park
DESCRIPTION:>> PAY FOR TRAINING HERE <<\n\nVictoria University ‘Vic Uni’ offers a indoor heated 25m pool with depth 1.2 – 1.8m\, and is a great opportunity for those living/working on the Northern-side of the city.\n\nIMPORTANT: due to COVID-19 restrictions\, a check-in procedure is required upon entering the premises. Please read this document: \nVU Sport COVID Safe Return to Play\n\n* * * * *\n\nTraining session in buddy-style arrangement.\n\nDedicated lanes for MFC.\n\nEnter: via the Maribyrnong Blvd entry.\nBuilding M.\nParking: Mostly Free\, please check restrictions.\n\n* * * * *\n\nPAYMENT\nPlease complete payment at least 30mins prior to training.\nClick the link below and select the session from the calendar.\n>> PAY FOR TRAINING HERE <<
URL:http://www.melbournefreedivers.org.au/event/training-victoria-university-footscray-park-10/2021-02-10/
LOCATION:Victoria University - Footscray Park\, Ballarat Road\, Footscray VIC\, Footscray\, VIC\, 3011\, Australia
GEO:-37.7931981;144.9005217
X-APPLE-STRUCTURED-LOCATION;VALUE=URI;X-ADDRESS=Victoria University - Footscray Park Ballarat Road Footscray VIC Footscray VIC 3011 Australia;X-APPLE-RADIUS=500;X-TITLE=Victoria University - Footscray Park\, Ballarat Road\, Footscray VIC:geo:144.9005217,-37.7931981
ATTACH;FMTTYPE=image/jpeg:http://www.melbournefreedivers.org.au/wp-content/uploads/2015/11/Footscray-Training-1.jpg
END:VEVENT
BEGIN:VEVENT
DTSTART;TZID=UTC+10:20210211T190000
DTEND;TZID=UTC+10:20210211T210000
DTSTAMP:20210226T022542
CREATED:20200211T015631
LAST-MODIFIED:20210205T003338
UID:4068-1613070000-1613077200@www.melbournefreedivers.org.au
SUMMARY:Thursday Training – Brunswick Baths\, Brunswick
DESCRIPTION:>> PAY FOR TRAINING HERE <<\n\nBrunswick Baths offers an outdoor heated 50mt pool.\n\n* * * * *\n\nTraining session in buddy-style arrangement.\n\nDedicated lane for MFC.\n\nBrunswick Baths is at 14 Dawson St\, Brunswick.\n\n* * * * *\n\nPAYMENT\nPlease complete payment at least 30mins prior to training.\nClick the link below and select the session from the calendar.\n>> PAY FOR TRAINING HERE <<
URL:http://www.melbournefreedivers.org.au/event/tuesday-training-brunswick-baths-brunswick/2021-02-11/
LOCATION:14 Dawson St\, Brunswick\, VIC\, Australia
ATTACH;FMTTYPE=image/jpeg:http://www.melbournefreedivers.org.au/wp-content/uploads/2020/02/brunswick_l.jpg
END:VEVENT
BEGIN:VEVENT
DTSTART;TZID=UTC+10:20210218T190000
DTEND;TZID=UTC+10:20210218T210000
DTSTAMP:20210226T022542
CREATED:20200211T015631
LAST-MODIFIED:20200211T015631
UID:5333-1613674800-1613682000@www.melbournefreedivers.org.au
SUMMARY:Thursday Training – Brunswick Baths\, Brunswick
DESCRIPTION:>> PAY FOR TRAINING HERE <<\n\nBrunswick Baths offers an outdoor heated 50mt pool.\n\n* * * * *\n\nTraining session in buddy-style arrangement.\n\nDedicated lane for MFC.\n\nBrunswick Baths is at 14 Dawson St\, Brunswick.\n\n* * * * *\n\nPAYMENT\nPlease complete payment at least 30mins prior to training.\nClick the link below and select the session from the calendar.\n>> PAY FOR TRAINING HERE <<
URL:http://www.melbournefreedivers.org.au/event/tuesday-training-brunswick-baths-brunswick/2021-02-18/
LOCATION:14 Dawson St\, Brunswick\, VIC\, Australia
ATTACH;FMTTYPE=image/jpeg:http://www.melbournefreedivers.org.au/wp-content/uploads/2020/02/brunswick_l.jpg
END:VEVENT
BEGIN:VEVENT
DTSTART;TZID=Australia/Melbourne:20210222T194500
DTEND;TZID=Australia/Melbourne:20210222T213000
DTSTAMP:20210226T022542
CREATED:20180828T035531
LAST-MODIFIED:20210216T004635
UID:5311-1614023100-1614029400@www.melbournefreedivers.org.au
SUMMARY:Monday Training – MSAC\, Albert Park
DESCRIPTION:>> PAY FOR TRAINING HERE <<\n\nMSAC offers an indoor heated 50mt pool.\n\nBefore coming to MSAC\, please see the \nCOVID-19 notifications\nand read the \nMFC COVIDSafe plan\n\n\n* * * * *\n\nTraining session in buddy-style arrangement.\n\nDedicated lane for MFC.\n\nAccess to MSAC is either from Aughtie Drive or the Albert Road/Cecil Street entrance.\nParking: MSAC has two car parks with a total of 500 spaces for members and patrons’ use. Please be aware of Terms and Conditions of parking at MSAC\, which are clearly displayed at all entrances to car parks.\n\n* * * * *\n\nPAYMENT\nPlease complete payment at least 30mins prior to training.\nClick the link below and select the session from the calendar.\n>> PAY FOR TRAINING HERE <<
URL:http://www.melbournefreedivers.org.au/event/wednesday-training-msac-albert-park/2021-02-22/
LOCATION:30 Aughtie Dr\, Melbourne\, Australia\, 3206\, Australia
ATTACH;FMTTYPE=image/jpeg:http://www.melbournefreedivers.org.au/wp-content/uploads/2018/08/msac.jpg
END:VEVENT
BEGIN:VEVENT
DTSTART;TZID=UTC+11:20210224T191500
DTEND;TZID=UTC+11:20210224T204500
DTSTAMP:20210226T022542
CREATED:20160221T113904
LAST-MODIFIED:20210214T000510
UID:5344-1614194100-1614199500@www.melbournefreedivers.org.au
SUMMARY:Wednesday Training – Victoria University\, Footscray Park
DESCRIPTION:>> PAY FOR TRAINING HERE <<\n\nVictoria University ‘Vic Uni’ offers a indoor heated 25m pool with depth 1.2 – 1.8m\, and is a great opportunity for those living/working on the Northern-side of the city.\n\nIMPORTANT: due to COVID-19 restrictions\, a check-in procedure is required upon entering the premises. Please read this document: \nVU Sport COVID Safe Return to Play\n\n* * * * *\n\nTraining session in buddy-style arrangement.\n\nDedicated lanes for MFC.\n\nEnter: via the Maribyrnong Blvd entry.\nBuilding M.\nParking: Mostly Free\, please check restrictions.\n\n* * * * *\n\nPAYMENT\nPlease complete payment at least 30mins prior to training.\nClick the link below and select the session from the calendar.\n>> PAY FOR TRAINING HERE <<
URL:http://www.melbournefreedivers.org.au/event/training-victoria-university-footscray-park-10/2021-02-24/
LOCATION:Victoria University - Footscray Park\, Ballarat Road\, Footscray VIC\, Footscray\, VIC\, 3011\, Australia
GEO:-37.7931981;144.9005217
X-APPLE-STRUCTURED-LOCATION;VALUE=URI;X-ADDRESS=Victoria University - Footscray Park Ballarat Road Footscray VIC Footscray VIC 3011 Australia;X-APPLE-RADIUS=500;X-TITLE=Victoria University - Footscray Park\, Ballarat Road\, Footscray VIC:geo:144.9005217,-37.7931981
ATTACH;FMTTYPE=image/jpeg:http://www.melbournefreedivers.org.au/wp-content/uploads/2015/11/Footscray-Training-1.jpg
END:VEVENT
BEGIN:VEVENT
DTSTART;TZID=UTC+10:20210225T190000
DTEND;TZID=UTC+10:20210225T210000
DTSTAMP:20210226T022542
CREATED:20200211T015631
LAST-MODIFIED:20200211T015631
UID:5334-1614279600-1614286800@www.melbournefreedivers.org.au
SUMMARY:Thursday Training – Brunswick Baths\, Brunswick
DESCRIPTION:>> PAY FOR TRAINING HERE <<\n\nBrunswick Baths offers an outdoor heated 50mt pool.\n\n* * * * *\n\nTraining session in buddy-style arrangement.\n\nDedicated lane for MFC.\n\nBrunswick Baths is at 14 Dawson St\, Brunswick.\n\n* * * * *\n\nPAYMENT\nPlease complete payment at least 30mins prior to training.\nClick the link below and select the session from the calendar.\n>> PAY FOR TRAINING HERE <<
URL:http://www.melbournefreedivers.org.au/event/tuesday-training-brunswick-baths-brunswick/2021-02-25/
LOCATION:14 Dawson St\, Brunswick\, VIC\, Australia
ATTACH;FMTTYPE=image/jpeg:http://www.melbournefreedivers.org.au/wp-content/uploads/2020/02/brunswick_l.jpg
END:VEVENT
END:VCALENDAR